BEGIN:VCALENDAR
VERSION:2.0
PRODID:-//Klaus Möckelmann - ECPv6.15.14//NONSGML v1.0//EN
CALSCALE:GREGORIAN
METHOD:PUBLISH
X-WR-CALNAME:Klaus Möckelmann
X-ORIGINAL-URL:https://klaus-moeckelmann.de
X-WR-CALDESC:Veranstaltungen für Klaus Möckelmann
REFRESH-INTERVAL;VALUE=DURATION:PT1H
X-Robots-Tag:noindex
X-PUBLISHED-TTL:PT1H
BEGIN:VTIMEZONE
TZID:Europe/Berlin
BEGIN:DAYLIGHT
TZOFFSETFROM:+0100
TZOFFSETTO:+0200
TZNAME:CEST
DTSTART:20250330T010000
END:DAYLIGHT
BEGIN:STANDARD
TZOFFSETFROM:+0200
TZOFFSETTO:+0100
TZNAME:CET
DTSTART:20251026T010000
END:STANDARD
BEGIN:DAYLIGHT
TZOFFSETFROM:+0100
TZOFFSETTO:+0200
TZNAME:CEST
DTSTART:20260329T010000
END:DAYLIGHT
BEGIN:STANDARD
TZOFFSETFROM:+0200
TZOFFSETTO:+0100
TZNAME:CET
DTSTART:20261025T010000
END:STANDARD
BEGIN:DAYLIGHT
TZOFFSETFROM:+0100
TZOFFSETTO:+0200
TZNAME:CEST
DTSTART:20270328T010000
END:DAYLIGHT
BEGIN:STANDARD
TZOFFSETFROM:+0200
TZOFFSETTO:+0100
TZNAME:CET
DTSTART:20271031T010000
END:STANDARD
END:VTIMEZONE
BEGIN:VEVENT
DTSTART;TZID=Europe/Berlin:20260829T140000
DTEND;TZID=Europe/Berlin:20260829T220000
DTSTAMP:20260422T201129
CREATED:20251210T143830Z
LAST-MODIFIED:20251210T144043Z
UID:853-1788012000-1788040800@klaus-moeckelmann.de
SUMMARY:29.08.2026 - 14.45 Uhr - Weinfest Lilienthal
DESCRIPTION:Veranstaltet vom Lions Club Lilienthal\, alle Gewinne des Weinverkaufs werden gespendet ! \nDas ganze Musik – Programm: \n14.00h Beginn \n14.45 h- 15.30 h Lounge Jazz Duo \n15.30 h Eröffnung Weinfest \n  \n15.45h – 16.30 h Lounge Jazz Duo \n  \n16.45h – 18.15 h Mariska Nijhoff \n  \n18.30h – 20.00 h Imanuel Jahreis \n  \n20.15 h Anthony Carney & Fred Drobnjak
URL:https://klaus-moeckelmann.de/event/29-08-2026-14-45-uhr-weinfest-lilienthal/
LOCATION:Kulturzentrum Murkens Hof\, Klosterstraße 25\, Lilienthal\, Niedersachsen\, 28865\, Deutschland
CATEGORIES:Lounge Jazz Duo
END:VEVENT
END:VCALENDAR