BEGIN:VCALENDAR
VERSION:2.0
PRODID:-//Klaus Möckelmann - ECPv6.15.14//NONSGML v1.0//EN
CALSCALE:GREGORIAN
METHOD:PUBLISH
X-ORIGINAL-URL:https://klaus-moeckelmann.de
X-WR-CALDESC:Veranstaltungen für Klaus Möckelmann
REFRESH-INTERVAL;VALUE=DURATION:PT1H
X-Robots-Tag:noindex
X-PUBLISHED-TTL:PT1H
BEGIN:VTIMEZONE
TZID:Europe/Berlin
BEGIN:DAYLIGHT
TZOFFSETFROM:+0100
TZOFFSETTO:+0200
TZNAME:CEST
DTSTART:20250330T010000
END:DAYLIGHT
BEGIN:STANDARD
TZOFFSETFROM:+0200
TZOFFSETTO:+0100
TZNAME:CET
DTSTART:20251026T010000
END:STANDARD
BEGIN:DAYLIGHT
TZOFFSETFROM:+0100
TZOFFSETTO:+0200
TZNAME:CEST
DTSTART:20260329T010000
END:DAYLIGHT
BEGIN:STANDARD
TZOFFSETFROM:+0200
TZOFFSETTO:+0100
TZNAME:CET
DTSTART:20261025T010000
END:STANDARD
BEGIN:DAYLIGHT
TZOFFSETFROM:+0100
TZOFFSETTO:+0200
TZNAME:CEST
DTSTART:20270328T010000
END:DAYLIGHT
BEGIN:STANDARD
TZOFFSETFROM:+0200
TZOFFSETTO:+0100
TZNAME:CET
DTSTART:20271031T010000
END:STANDARD
END:VTIMEZONE
BEGIN:VEVENT
DTSTART;TZID=Europe/Berlin:20260425T190000
DTEND;TZID=Europe/Berlin:20260425T220000
DTSTAMP:20260422T144403
CREATED:20251210T140042Z
LAST-MODIFIED:20251210T140042Z
UID:842-1777143600-1777154400@klaus-moeckelmann.de
SUMMARY:25.04.2026 – 19.00 Uhr Kulturzentrum Murkenshof
DESCRIPTION:Möckelmanns alte Orgellady singt dabei den Blues in allen Varianten:\nBekannte Klassiker von Jimmy Smith\, Jimmy McGriff\, Groove Holmes\, Bruce Cats\, Ronny\nEarl\, aber auch neuere Funk Jazz und Country inspirierte Bluesvarianten sowie eigene\nBluesstücke stehen auf dem Programm. \nKlaus Möckelmann  – Hammond B3 \nFred Drobnjak  – Gitarre \nJonathan Frach – Schlagzeug
URL:https://klaus-moeckelmann.de/event/25-04-2026-19-00-uhr-kulturzentrum-murkenshof/
LOCATION:Kulturzentrum Murkens Hof\, Klosterstraße 25\, Lilienthal\, Niedersachsen\, 28865\, Deutschland
CATEGORIES:Hammond Sings The Blues
END:VEVENT
END:VCALENDAR